Workbook

Sheet Baza Firm
C1: Baza Agencji i Firm Webowych B2B — Śląsk
C2: SilesMT Business Data
A5: Lp. | B5: Miasto | C5: Firma | D5: E-mail | E5: Telefon
A6: 1 | B6: Katowice | C6: Biegun.Studio | D6: hello@biegun.studio | E6: +48 793 355 700
A7: 2 | B7: Katowice | C7: ENDEA | D7: info@endea.pl | E7: +48 576 267 272
A8: 3 | B8: Katowice | C8: Grupa PNS | D8: biuro@grupapns.pl
A9: 4 | B9: Katowice | C9: jmalinowska.pl / Joanna Malinowska | D9: kontakt@jmalinowska.pl | E9: +48 784 907 433
A10: 5 | B10: Katowice | C10: LekroTech | D10: biuro@lekrotech.pl | E10: +48 509 801 593 / +48 531 904 278

Sheet Podsumowanie
C1: Podsumowanie Geograficzne — Baza Agencji i Firm Webowych B2B | Śląsk
C2: Analiza liczby firm w podziale na miejscowości | SilesMT Business Data
A5: Miasto | B5: Liczba firm
A6: Bojszowy | B6: =COUNTIF('Baza Firm'!B$6:B$10,A6)
A7: Bytom | B7: =COUNTIF('Baza Firm'!B$6:B$10,A7)
A8: Będzin | B8: =COUNTIF('Baza Firm'!B$6:B$10,A8)
A9: Chełm Śląski | B9: =COUNTIF('Baza Firm'!B$6:B$10,A9)
A10: Chorzów | B10: =COUNTIF('Baza Firm'!B$6:B$10,A10)
A11: Czeladź | B11: =COUNTIF('Baza Firm'!B$6:B$10,A11)
A12: Dąbrowa Górnicza | B12: =COUNTIF('Baza Firm'!B$6:B$10,A12)
A13: Gliwice | B13: =COUNTIF('Baza Firm'!B$6:B$10,A13)
A14: Imielin | B14: =COUNTIF('Baza Firm'!B$6:B$10,A14)
A15: Jaworzno | B15: =COUNTIF('Baza Firm'!B$6:B$10,A15)
A16: Katowice | B16: =COUNTIF('Baza Firm'!B$6:B$10,A16)
A17: Knurów | B17: =COUNTIF('Baza Firm'!B$6:B$10,A17)
... A30: Świętochłowice | B30: =COUNTIF('Baza Firm'!B$6:B$10,A30)
A31: Suma | B31: =SUM(B6:B30)
